
BEGIN:VCALENDAR
VERSION:2.0
PRODID:-//PA Office of Open Records//Training Event//EN
BEGIN:VEVENT
UID:20260424T063950-OOR@openrecords.pa.gov
DTSTAMP:20260424T063950
DTSTART:20260513T130000
DTEND:20260513T140000
SUMMARY:Carrol Township Police Department Right-to-Know Training
DESCRIPTION:Training on the Right-to-Know for Law Enforcement agencies.\n\n\nContact: Michael Lohr\nPhone: 717-432-3317\nEmail: mlohr@carrollpd.org\nRoom: \nEventURL: \nTicket URL: \nEntry Fee: $
LOCATION:555 Chestnut Grove Road, Dillsburg, PA 17019
END:VEVENT
END:VCALENDAR
