
BEGIN:VCALENDAR
VERSION:2.0
PRODID:-//PA Office of Open Records//Training Event//EN
BEGIN:VEVENT
UID:20260424T063951-OOR@openrecords.pa.gov
DTSTAMP:20260424T063951
DTSTART:20260513T090000
DTEND:20260513T100000
SUMMARY:Upper Allen Township Sunshine Act Training
DESCRIPTION:Training on the Sunshine Act and public meetings.\n\n\nContact: Allyson Appleby\nPhone: 717-766-0756\nEmail: aappleby@uatwp.org\nRoom: \nEventURL: \nTicket URL: \nEntry Fee: $
LOCATION:
END:VEVENT
END:VCALENDAR
